BEGIN:VCALENDAR
VERSION:2.0
PRODID:-//hacksw/handcal//NONSGML v1.0//EN
BEGIN:VEVENT
SUMMARY:NANCY - CAMPAGNE NANCY BRABOIS
UID:9924c113-d0d0-4110-a636-b7cb26afb7a2
DTSTART:20260404T220000Z
DTEND:20260405T220000Z
LOCATION:Localisation   NANCY
CATEGORIES:Sportif
STATUS:
URL;VALUE=URI:https://www.archer-montigny-les-metz.com/evenements/2026/04/05/nancy-campagne-nancy-brabois-2440954
END:VEVENT
END:VCALENDAR
