BEGIN:VCALENDAR
VERSION:2.0
PRODID:-//hacksw/handcal//NONSGML v1.0//EN
BEGIN:VEVENT
SUMMARY:CHALONS EN CHAMPAGNE 1ER - RUN ARCHERY
UID:1e6a7068-eec1-45b6-bae5-12f485cb9155
DTSTART:20260411T220000Z
DTEND:20260412T220000Z
LOCATION:Localisation   CHALONS EN CHAMPAGNE
CATEGORIES:Sportif
STATUS:
URL;VALUE=URI:https://www.archer-montigny-les-metz.com/evenements/2026/04/12/chalons-en-champagne-1er-run-archery-2440951
END:VEVENT
END:VCALENDAR
