BEGIN:VCALENDAR
VERSION:2.0
PRODID:-//hacksw/handcal//NONSGML v1.0//EN
BEGIN:VEVENT
SUMMARY:REIMS - 3D DE REIMS  DU 12 AVRIL 2026
UID:319d3413-9b23-4252-90d7-caa1a5970636
DTSTART:20260411T220000Z
DTEND:20260412T220000Z
LOCATION:Localisation   FORT DE FRESNE LES REIMS
CATEGORIES:Sportif
STATUS:
URL;VALUE=URI:https://www.archer-montigny-les-metz.com/evenements/2026/04/12/reims-3d-de-reims-du-12-avril-2026-2440952
END:VEVENT
END:VCALENDAR
