BEGIN:VCALENDAR
VERSION:2.0
PRODID:-//hacksw/handcal//NONSGML v1.0//EN
BEGIN:VEVENT
SUMMARY:EPINAL 1ER - TIR NATURE EPINAL CD 88 ( 2 DEPARTS)
UID:48920fbc-68c0-4c48-8b6d-2141d38ea05e
DTSTART:20260418T220000Z
DTEND:20260419T220000Z
LOCATION:Localisation   EPINAL
CATEGORIES:Sportif
STATUS:
URL;VALUE=URI:https://www.archer-montigny-les-metz.com/evenements/2026/04/19/epinal-1er-tir-nature-epinal-cd-88-2-departs-2440950
END:VEVENT
END:VCALENDAR
