BEGIN:VCALENDAR
VERSION:2.0
PRODID:-//hacksw/handcal//NONSGML v1.0//EN
BEGIN:VEVENT
SUMMARY:VOLGELSHEIM - 1ERE MANCHE DRE
UID:6b4b34d9-63ad-481f-a42a-feb52b4419b0
DTSTART:20260418T220000Z
DTEND:20260419T220000Z
LOCATION:Localisation   VOLGELSHEIM
CATEGORIES:Sportif
STATUS:
URL;VALUE=URI:https://www.archer-montigny-les-metz.com/evenements/2026/04/19/volgelsheim-1ere-manche-dre-2440949
END:VEVENT
END:VCALENDAR
