BEGIN:VCALENDAR
VERSION:2.0
PRODID:-//hacksw/handcal//NONSGML v1.0//EN
BEGIN:VEVENT
SUMMARY:GUEUX - TIR EN CAMPAGNE FORT DE MONTBRE - CD 51
UID:39a92d00-db0b-4607-bf60-15a3eedeb1fa
DTSTART:20260424T220000Z
DTEND:20260426T220000Z
LOCATION:Localisation   FORT DE MONTBRE
CATEGORIES:Sportif
STATUS:
URL;VALUE=URI:https://www.archer-montigny-les-metz.com/evenements/2026/04/25/gueux-tir-en-campagne-fort-de-montbre-cd-51-2440948
END:VEVENT
END:VCALENDAR
