BEGIN:VCALENDAR
VERSION:2.0
PRODID:-//hacksw/handcal//NONSGML v1.0//EN
BEGIN:VEVENT
SUMMARY:MAIZIERES GDE PAROISSE - CONCOURS 3D MARIGNY LE CHATEL - CD10
UID:352d52b8-5b34-4a26-8af5-cd0160cdb1a4
DTSTART:20260425T220000Z
DTEND:20260426T220000Z
LOCATION:Localisation   MARIGNY LE CHATEL
CATEGORIES:Sportif
STATUS:
URL;VALUE=URI:https://www.archer-montigny-les-metz.com/evenements/2026/04/26/maizieres-gde-paroisse-concours-3d-marigny-le-chatel-cd10-2440947
END:VEVENT
END:VCALENDAR
