BEGIN:VCALENDAR
VERSION:2.0
PRODID:-//hacksw/handcal//NONSGML v1.0//EN
BEGIN:VEVENT
SUMMARY:NEUWILLER LES SAVERNE - CONCOURS 3D
UID:74603ab4-2adf-4df0-ac27-fee28c3bb99b
DTSTART:20260425T220000Z
DTEND:20260426T220000Z
LOCATION:Localisation   NEUWILLER-LES-SAVERNE
CATEGORIES:Sportif
STATUS:
URL;VALUE=URI:https://www.archer-montigny-les-metz.com/evenements/2026/04/26/neuwiller-les-saverne-concours-3d-2440946
END:VEVENT
END:VCALENDAR
