BEGIN:VCALENDAR
VERSION:2.0
PRODID:-//hacksw/handcal//NONSGML v1.0//EN
BEGIN:VEVENT
SUMMARY:PONT ST VINCENT - TIR NATURE 1ER MAI - CD54 ET CR
UID:ca3d022c-1853-4e09-8dc7-eec836e6c044
DTSTART:20260430T220000Z
DTEND:20260501T220000Z
LOCATION:Localisation   PONT SAINT VINCENT
CATEGORIES:Sportif
STATUS:
URL;VALUE=URI:https://www.archer-montigny-les-metz.com/evenements/2026/05/01/pont-st-vincent-tir-nature-1er-mai-cd54-et-cr-2440943
END:VEVENT
END:VCALENDAR
