BEGIN:VCALENDAR
VERSION:2.0
PRODID:-//hacksw/handcal//NONSGML v1.0//EN
BEGIN:VEVENT
SUMMARY:SARREGUEMINES - TIR CAMPAGNE DU BUCHHOLZ
UID:1918198f-608e-4d48-99e4-7bd94b192f17
DTSTART:20260501T220000Z
DTEND:20260502T220000Z
LOCATION:Localisation   SARREGUEMINES
CATEGORIES:Sportif
STATUS:
URL;VALUE=URI:https://www.archer-montigny-les-metz.com/evenements/2026/05/02/sarreguemines-tir-campagne-du-buchholz-2440942
END:VEVENT
END:VCALENDAR
