BEGIN:VCALENDAR
VERSION:2.0
PRODID:-//hacksw/handcal//NONSGML v1.0//EN
BEGIN:VEVENT
SUMMARY:SARREBOURG - TIR 3D A LETTENBACH - 3 DEPARTS
UID:5af2d1b4-ae4d-4839-9bac-28db21c8f4aa
DTSTART:20260508T220000Z
DTEND:20260510T220000Z
LOCATION:Localisation   ABRESCHVILLER (LETTENBACH)
CATEGORIES:Sportif
STATUS:
URL;VALUE=URI:https://www.archer-montigny-les-metz.com/evenements/2026/05/09/sarrebourg-tir-3d-a-lettenbach-3-departs-2440936
END:VEVENT
END:VCALENDAR
