BEGIN:VCALENDAR
VERSION:2.0
PRODID:-//hacksw/handcal//NONSGML v1.0//EN
BEGIN:VEVENT
SUMMARY:DIEUZE - TAEI CD57
UID:949e90a2-cb71-4ed8-9c71-8798bfb73a63
DTSTART:20260612T220000Z
DTEND:20260614T220000Z
LOCATION:Localisation   DIEUZE
CATEGORIES:Sportif
STATUS:
URL;VALUE=URI:https://www.archer-montigny-les-metz.com/evenements/2026/06/13/dieuze-taei-cd57-2440916
END:VEVENT
END:VCALENDAR
