BEGIN:VCALENDAR
VERSION:2.0
PRODID:-//hacksw/handcal//NONSGML v1.0//EN
BEGIN:VEVENT
SUMMARY:REIMS - TAE DE REIMS - CD51 TAEN
UID:d7799a53-d2b0-4dea-b83f-39eca7aa42aa
DTSTART:20260613T220000Z
DTEND:20260614T220000Z
LOCATION:Localisation   BETHENY
CATEGORIES:Sportif
STATUS:
URL;VALUE=URI:https://www.archer-montigny-les-metz.com/evenements/2026/06/14/reims-tae-de-reims-cd51-taen-2440911
END:VEVENT
END:VCALENDAR
