BEGIN:VCALENDAR
VERSION:2.0
PRODID:-//hacksw/handcal//NONSGML v1.0//EN
BEGIN:VEVENT
SUMMARY:TOUL - CAMPAGNE - TOUL
UID:f310a09a-4e54-4e47-93bd-610476a77b2c
DTSTART:20260613T220000Z
DTEND:20260614T220000Z
LOCATION:Localisation   PAGNEY DERRIERE BARINE
CATEGORIES:Sportif
STATUS:
URL;VALUE=URI:https://www.archer-montigny-les-metz.com/evenements/2026/06/14/toul-campagne-toul-2440914
END:VEVENT
END:VCALENDAR
