BEGIN:VCALENDAR
VERSION:2.0
PRODID:-//hacksw/handcal//NONSGML v1.0//EN
BEGIN:VEVENT
SUMMARY:VARANGEVILLE - CHAMPIONNAT DEPARTEMENTAL PAR EQUIPE
UID:01b71cef-032a-4546-8c88-9513087333df
DTSTART:20260613T220000Z
DTEND:20260614T220000Z
LOCATION:Localisation   SAINT NICOLAS DE PORT
CATEGORIES:Sportif
STATUS:
URL;VALUE=URI:https://www.archer-montigny-les-metz.com/evenements/2026/06/14/varangeville-championnat-departemental-par-equipe-2440912
END:VEVENT
END:VCALENDAR
