BEGIN:VCALENDAR
VERSION:2.0
PRODID:-//hacksw/handcal//NONSGML v1.0//EN
BEGIN:VEVENT
SUMMARY:GUEUX - TIR 3D FORT DE MONTBRE - CD51
UID:b659c79b-e74f-4808-8446-6021666d5e62
DTSTART:20260710T220000Z
DTEND:20260712T220000Z
LOCATION:Localisation   FORT DE MONTBRE
CATEGORIES:Sportif
STATUS:
URL;VALUE=URI:https://www.archer-montigny-les-metz.com/evenements/2026/07/11/gueux-tir-3d-fort-de-montbre-cd51-2440898
END:VEVENT
END:VCALENDAR
