BEGIN:VCALENDAR
VERSION:2.0
PRODID:-//hacksw/handcal//NONSGML v1.0//EN
BEGIN:VEVENT
SUMMARY:BREUX - CD55 3D
UID:0a82f2cf-e74a-4d56-af23-c87f7fd59c42
DTSTART:20260718T220000Z
DTEND:20260719T220000Z
LOCATION:Localisation   BREUX
CATEGORIES:Sportif
STATUS:
URL;VALUE=URI:https://www.archer-montigny-les-metz.com/evenements/2026/07/19/breux-cd55-3d-2440896
END:VEVENT
END:VCALENDAR
