BEGIN:VCALENDAR
VERSION:2.0
PRODID:-//hacksw/handcal//NONSGML v1.0//EN
BEGIN:VEVENT
SUMMARY:VAGNEY - TIR NATURE DE VAGNEY
UID:6fd35a76-8e90-4a56-9a84-acd67738af53
DTSTART:20260919T220000Z
DTEND:20260920T220000Z
LOCATION:Localisation   VAGNEY
CATEGORIES:Sportif
STATUS:
URL;VALUE=URI:https://www.archer-montigny-les-metz.com/evenements/2026/09/20/vagney-tir-nature-de-vagney-2440893
END:VEVENT
END:VCALENDAR
