BEGIN:VCALENDAR
VERSION:2.0
PRODID:-//hacksw/handcal//NONSGML v1.0//EN
BEGIN:VEVENT
SUMMARY:HAUCOURT-MOULAINE - 3D
UID:d8b4a3e0-83d1-4cfd-9cc3-0326d7f423ac
DTSTART:20260926T220000Z
DTEND:20260927T220000Z
LOCATION:Localisation   GORCY
CATEGORIES:Sportif
STATUS:
URL;VALUE=URI:https://www.archer-montigny-les-metz.com/evenements/2026/09/27/haucourt-moulaine-3d-2440892
END:VEVENT
END:VCALENDAR
