BEGIN:VCALENDAR
VERSION:2.0
PRODID:-//hacksw/handcal//NONSGML v1.0//EN
BEGIN:VEVENT
SUMMARY:REIMS - TIR NATURE DE REIMS
UID:e8ed963a-003c-4272-9707-8e0b4d69d414
DTSTART:20260926T220000Z
DTEND:20260927T220000Z
LOCATION:Localisation   FORT DE FRESNE LES REIMS
CATEGORIES:Sportif
STATUS:
URL;VALUE=URI:https://www.archer-montigny-les-metz.com/evenements/2026/09/27/reims-tir-nature-de-reims-2440891
END:VEVENT
END:VCALENDAR
